BEGIN:VCALENDAR
VERSION:2.0
PRODID:-//Eye of RA Center - ECPv6.15.20//NONSGML v1.0//EN
CALSCALE:GREGORIAN
METHOD:PUBLISH
X-WR-CALNAME:Eye of RA Center
X-ORIGINAL-URL:https://eyeofracenter.com
X-WR-CALDESC:Events for Eye of RA Center
REFRESH-INTERVAL;VALUE=DURATION:PT1H
X-Robots-Tag:noindex
X-PUBLISHED-TTL:PT1H
BEGIN:VTIMEZONE
TZID:America/Chicago
BEGIN:DAYLIGHT
TZOFFSETFROM:-0600
TZOFFSETTO:-0500
TZNAME:CDT
DTSTART:20240310T080000
END:DAYLIGHT
BEGIN:STANDARD
TZOFFSETFROM:-0500
TZOFFSETTO:-0600
TZNAME:CST
DTSTART:20241103T070000
END:STANDARD
BEGIN:DAYLIGHT
TZOFFSETFROM:-0600
TZOFFSETTO:-0500
TZNAME:CDT
DTSTART:20250309T080000
END:DAYLIGHT
BEGIN:STANDARD
TZOFFSETFROM:-0500
TZOFFSETTO:-0600
TZNAME:CST
DTSTART:20251102T070000
END:STANDARD
BEGIN:DAYLIGHT
TZOFFSETFROM:-0600
TZOFFSETTO:-0500
TZNAME:CDT
DTSTART:20260308T080000
END:DAYLIGHT
BEGIN:STANDARD
TZOFFSETFROM:-0500
TZOFFSETTO:-0600
TZNAME:CST
DTSTART:20261101T070000
END:STANDARD
END:VTIMEZONE
BEGIN:VEVENT
DTSTART;TZID=America/Chicago:20250927T120000
DTEND;TZID=America/Chicago:20250927T163000
DTSTAMP:20260423T153811
CREATED:20250919T193125Z
LAST-MODIFIED:20250919T193125Z
UID:2431-1758974400-1758990600@eyeofracenter.com
SUMMARY:Intuitive & Tarot Card Readings
DESCRIPTION:Intuitive Readings with Janita Williams – Every Saturday! Join us every Saturday for a unique opportunity to connect with Intuitive Tarot Card Reader & Empath\, Janita Williams. With her deep intuitive insight and Tarot expertise\, Janita offers personalized readings that provide clarity\, guidance\, and healing energy. \nWhether you’re seeking answers\, direction\, or simply curious about what the cards have to say\, Janita’s warm and grounded presence creates a welcoming space for all. \n🗓 Every Saturday📍 On Site🔮 Tarot & Intuitive Readings Available \nWalk-ins welcome or reserve your spot in advance!
URL:https://eyeofracenter.com/event/intuitive-tarot-card-readings/
CATEGORIES:Community Events & Classes
ATTACH;FMTTYPE=image/png:https://eyeofracenter.com/wp-content/uploads/2025/09/Tarot-flyer.png
END:VEVENT
BEGIN:VEVENT
DTSTART;TZID=America/Chicago:20251004T173000
DTEND;TZID=America/Chicago:20251004T183000
DTSTAMP:20260423T153811
CREATED:20250526T005658Z
LAST-MODIFIED:20250919T191925Z
UID:2257-1759599000-1759602600@eyeofracenter.com
SUMMARY:Empath Support Circle
DESCRIPTION:🌕 Empath Support Circle: Connect\, Recharge & Deepen Your Inner Knowing 🌕 \nDo you absorb emotions\, sense energy shifts\, or feel things you can’t always explain? Are you sometimes overwhelmed in crowds\, deeply moved by nature\, or attuned to the emotions of others even without words? Do you see\, hear\, smell and or feel the spiritual realm? You may be an empath\, and your experiences are valid. \nJoin our Empath Support Circle\, a nurturing space for those who feel deeply\, care deeply\, and want to better understand and care for their sensitive\, intuitive nature. This gathering is not only a place for emotional support\, but also a space to explore your unique empathic type and how you may be receiving subtle signals from the spirit realm. \n🌸 In This Circle\, You’ll Experience:\n\n\nHeart-Centered Sharing: A confidential space for open conversation\, reflection\, and mutual understanding. \n\n\nGrounding & Energy-Clearing Techniques: Gentle practices to help you feel stable\, safe\, and restored. \n\n\nDiscover Your Empath Type: Learn about emotional\, physical\, intuitive\, plant\, animal\, dream\, and geomantic empaths — and how your sensitivities show up in everyday life. \n\n\nStrengthen Your Intuitive Connection: Explore how empaths may receive signals through dreams\, synchronicities\, sensations\, or direct spiritual impressions. \n\n\nHealthy Boundaries & Energetic Self-Care: Practical tools to prevent overwhelm\, disconnect from unwanted energies\, and honor your energetic space. \n\n\nSpiritual Exploration (Optional): Reflect on messages from the spirit realm\, ancestral energies\, or guides in a respectful and grounded way. \n\n\nThis circle is inclusive and open to everyone\, whether you’re exploring this for the first time or looking to deepen your understanding and connection. \nBring: A journal\, water or tea\, a grounding item (like a stone\, candle\, or comfort object)\, and your open heart.Cost: At-will Donation-Based
URL:https://eyeofracenter.com/event/empath-support-circle/
ATTACH;FMTTYPE=image/png:https://eyeofracenter.com/wp-content/uploads/2025/05/empath-circle-small.png
END:VEVENT
BEGIN:VEVENT
DTSTART;TZID=America/Chicago:20251010T190000
DTEND;TZID=America/Chicago:20251010T213000
DTSTAMP:20260423T153811
CREATED:20250420T042933Z
LAST-MODIFIED:20250909T044348Z
UID:2199-1760122800-1760131800@eyeofracenter.com
SUMMARY:Elev8te - A High Vibe Open Mic Night
DESCRIPTION:🌟 HIGH VIBE OPEN MIC NIGHT 🌟\n“Every 2nd Friday Elevate the Vibes. Amplify the Light.” \nStep into a space where words heal\, music uplifts\, and energy connects. This is High Vibe Open Mic — an evening dedicated to pure positivity\, authentic expression\, and soul-stirring vibes. \nELEV8TE: A High Vibe Open Mic Experience \nJoin us for a powerful night of expression\, elevation\, and community connection at ELEV8TE — an open mic experience designed to raise vibrations and celebrate authenticity. An open mic experience like no other. No profanity. No ignorance. No negativity. Just high vibrations\, deep thoughts\, and radiant energy. Whether you’re a poet\, singer\, musician\, storyteller\, healer\, or just here to vibe\, this space is for YOU. Come share your gifts\, your truth\, your magic  or come to be moved and inspired by the voices of others. High vibes only. Intentional space. Soulful energy. Unforgettable performances. \nOpen mic sign-up is in person at the door as well — slots are first come\, first served. \nBring your friends\, your journal\, your instruments\, your love. Let’s rise together!
URL:https://eyeofracenter.com/event/elev8te-open-mic/
ATTACH;FMTTYPE=image/jpeg:https://eyeofracenter.com/wp-content/uploads/2025/04/123_1-1.jpeg
END:VEVENT
BEGIN:VEVENT
DTSTART;TZID=America/Chicago:20250927T120000
DTEND;TZID=America/Chicago:20250927T163000
DTSTAMP:20260423T153811
CREATED:20250919T193125Z
LAST-MODIFIED:20250919T193125Z
UID:2431-1758974400-1758990600@eyeofracenter.com
SUMMARY:Intuitive & Tarot Card Readings
DESCRIPTION:Intuitive Readings with Janita Williams – Every Saturday! Join us every Saturday for a unique opportunity to connect with Intuitive Tarot Card Reader & Empath\, Janita Williams. With her deep intuitive insight and Tarot expertise\, Janita offers personalized readings that provide clarity\, guidance\, and healing energy. \nWhether you’re seeking answers\, direction\, or simply curious about what the cards have to say\, Janita’s warm and grounded presence creates a welcoming space for all. \n🗓 Every Saturday📍 On Site🔮 Tarot & Intuitive Readings Available \nWalk-ins welcome or reserve your spot in advance!
URL:https://eyeofracenter.com/event/intuitive-tarot-card-readings/
CATEGORIES:Community Events & Classes
ATTACH;FMTTYPE=image/png:https://eyeofracenter.com/wp-content/uploads/2025/09/Tarot-flyer.png
END:VEVENT
BEGIN:VEVENT
DTSTART;TZID=America/Chicago:20251011T150000
DTEND;TZID=America/Chicago:20251011T190000
DTSTAMP:20260423T153811
CREATED:20250909T034633Z
LAST-MODIFIED:20251011T182245Z
UID:2406-1760194800-1760209200@eyeofracenter.com
SUMMARY:The Ra Recharge - CANCELED
DESCRIPTION:A Multidimensional Healing Circuit at the Eye of Ra Holistic Center \nStep into a high-vibrational healing experience at the Eye of Ra Holistic Center\, where wellness meets intention. At The Ra Recharge\, guests will rotate through a curated lineup of holistic healing stations\, receiving hands-on care from certified wellness professionals in modalities like acupuncture\, sound bowl healing\, massage\, reiki\, reflexology\, foot detox\, and more. All for the price of one basic 90 min massage. \nSpaces are limited. Please do not wait to secure your healing experience!
URL:https://eyeofracenter.com/event/the-ra-recharge-healing-circuit/
CATEGORIES:Community Events & Classes
ATTACH;FMTTYPE=image/jpeg:https://eyeofracenter.com/wp-content/uploads/2025/09/123_1.jpeg
END:VEVENT
BEGIN:VEVENT
DTSTART;TZID=America/Chicago:20250927T120000
DTEND;TZID=America/Chicago:20250927T163000
DTSTAMP:20260423T153811
CREATED:20250919T193125Z
LAST-MODIFIED:20250919T193125Z
UID:2431-1758974400-1758990600@eyeofracenter.com
SUMMARY:Intuitive & Tarot Card Readings
DESCRIPTION:Intuitive Readings with Janita Williams – Every Saturday! Join us every Saturday for a unique opportunity to connect with Intuitive Tarot Card Reader & Empath\, Janita Williams. With her deep intuitive insight and Tarot expertise\, Janita offers personalized readings that provide clarity\, guidance\, and healing energy. \nWhether you’re seeking answers\, direction\, or simply curious about what the cards have to say\, Janita’s warm and grounded presence creates a welcoming space for all. \n🗓 Every Saturday📍 On Site🔮 Tarot & Intuitive Readings Available \nWalk-ins welcome or reserve your spot in advance!
URL:https://eyeofracenter.com/event/intuitive-tarot-card-readings/
CATEGORIES:Community Events & Classes
ATTACH;FMTTYPE=image/png:https://eyeofracenter.com/wp-content/uploads/2025/09/Tarot-flyer.png
END:VEVENT
BEGIN:VEVENT
DTSTART;TZID=America/Chicago:20250927T120000
DTEND;TZID=America/Chicago:20250927T163000
DTSTAMP:20260423T153811
CREATED:20250919T193125Z
LAST-MODIFIED:20250919T193125Z
UID:2431-1758974400-1758990600@eyeofracenter.com
SUMMARY:Intuitive & Tarot Card Readings
DESCRIPTION:Intuitive Readings with Janita Williams – Every Saturday! Join us every Saturday for a unique opportunity to connect with Intuitive Tarot Card Reader & Empath\, Janita Williams. With her deep intuitive insight and Tarot expertise\, Janita offers personalized readings that provide clarity\, guidance\, and healing energy. \nWhether you’re seeking answers\, direction\, or simply curious about what the cards have to say\, Janita’s warm and grounded presence creates a welcoming space for all. \n🗓 Every Saturday📍 On Site🔮 Tarot & Intuitive Readings Available \nWalk-ins welcome or reserve your spot in advance!
URL:https://eyeofracenter.com/event/intuitive-tarot-card-readings/
CATEGORIES:Community Events & Classes
ATTACH;FMTTYPE=image/png:https://eyeofracenter.com/wp-content/uploads/2025/09/Tarot-flyer.png
END:VEVENT
END:VCALENDAR