BEGIN:VCALENDAR
VERSION:2.0
PRODID:-//Eye of RA Center - ECPv6.15.20//NONSGML v1.0//EN
CALSCALE:GREGORIAN
METHOD:PUBLISH
X-WR-CALNAME:Eye of RA Center
X-ORIGINAL-URL:https://eyeofracenter.com
X-WR-CALDESC:Events for Eye of RA Center
REFRESH-INTERVAL;VALUE=DURATION:PT1H
X-Robots-Tag:noindex
X-PUBLISHED-TTL:PT1H
BEGIN:VTIMEZONE
TZID:America/Chicago
BEGIN:DAYLIGHT
TZOFFSETFROM:-0600
TZOFFSETTO:-0500
TZNAME:CDT
DTSTART:20240310T080000
END:DAYLIGHT
BEGIN:STANDARD
TZOFFSETFROM:-0500
TZOFFSETTO:-0600
TZNAME:CST
DTSTART:20241103T070000
END:STANDARD
BEGIN:DAYLIGHT
TZOFFSETFROM:-0600
TZOFFSETTO:-0500
TZNAME:CDT
DTSTART:20250309T080000
END:DAYLIGHT
BEGIN:STANDARD
TZOFFSETFROM:-0500
TZOFFSETTO:-0600
TZNAME:CST
DTSTART:20251102T070000
END:STANDARD
BEGIN:DAYLIGHT
TZOFFSETFROM:-0600
TZOFFSETTO:-0500
TZNAME:CDT
DTSTART:20260308T080000
END:DAYLIGHT
BEGIN:STANDARD
TZOFFSETFROM:-0500
TZOFFSETTO:-0600
TZNAME:CST
DTSTART:20261101T070000
END:STANDARD
END:VTIMEZONE
BEGIN:VEVENT
DTSTART;TZID=America/Chicago:20250802T150000
DTEND;TZID=America/Chicago:20250802T170000
DTSTAMP:20260424T080627
CREATED:20250526T004133Z
LAST-MODIFIED:20250526T005151Z
UID:2253-1754146800-1754154000@eyeofracenter.com
SUMMARY:Empath Workshop
DESCRIPTION:Are you deeply affected by the emotions and energies of those around you? Do you often feel overwhelmed\, drained\, or unsure how to protect your own energy? Did you hear\, see\, smell and or feel the spiritual realm? \nJoin us for “The Empowered Empath”\, a healing and transformative workshop designed specifically for empaths\, highly sensitive people (HSPs)\, and intuitive souls seeking greater balance\, clarity\, and empowerment. \n🌟 What You’ll Experience:\n\n\nUnderstanding Empathic Abilities: Learn the science and spirituality behind empathy and emotional sensitivity. \n\n\nEnergy Protection & Boundaries: Discover practical tools to shield your energy\, set healthy boundaries\, and prevent emotional burnout. \n\n\nGrounding & Centering Practices: Participate in guided meditations\, breathwork\, and grounding techniques to help you reconnect with your inner calm. \n\n\nEmotional Resilience & Self-Care: Develop daily rituals and mindsets that support emotional wellbeing and energetic integrity. \n\n\nCommunity & Connection: Share space with like-hearted individuals who truly get you. \n\n\nWhether you’re new to the concept of being an empath or you’re looking to deepen your skills and strengthen your boundaries\, this workshop will equip you with the tools to thrive — not just survive — as an empath in today’s world. \nSpaces are limited. Reserve your spot today and step into your power as an empath.
URL:https://eyeofracenter.com/event/empath-workshop-2/
ATTACH;FMTTYPE=image/png:https://eyeofracenter.com/wp-content/uploads/2025/05/empath-Aug.png
END:VEVENT
BEGIN:VEVENT
DTSTART;TZID=America/Chicago:20250803T150000
DTEND;TZID=America/Chicago:20250803T160000
DTSTAMP:20260424T080627
CREATED:20250729T170943Z
LAST-MODIFIED:20250803T182435Z
UID:2334-1754233200-1754236800@eyeofracenter.com
SUMMARY:Per Ankh RA - House of Life Kemetic School Orientation - ONLINE
DESCRIPTION:THIS IS THE ORIENTATION CLASS FOR THE INTRODUCTION TO KEMETIC WISDOM TEACHINGS CLASS \nIntroduction to Kemetic Wisdom Teachings: Awakening the Divine Self Presented by the Eye of RA Holistic Center Per Ankh RA (House of Life and Light)! \nStep into the sacred legacy of ancient Kemet and embark on a transformative journey toward self-mastery\, balance\, and Divine alignment. \nThis introductory course in Kemetic Wisdom teachings invites students to explore the timeless spiritual principles rooted in Ma’at—the natural order and cosmic truth that governed life in ancient Kemet. Through study\, reflection\, and guided practices\, participants will begin to understand the foundational teachings that supported personal growth\, communal harmony\, and alignment with Divine will. \nWhat You Will Explore:\n\nThe spiritual cosmology of ancient Kemet and the Neteru (Divine principles)\nThe concept and practice of Ma’at as a path to inner balance and social harmony\nSacred teachings on the Divine Self (Ka\, Ba\, and Akh) and soul evolution\nThe role of ritual\, meditation\, and ethical living in personal transformation\nHow to apply Kemetic wisdom to modern life to become your most magnanimous self\n\n🌟 About Your Instructor:\nAset Hetep is a revered Kemetic Priestess (Hm’t RA)\, Kemetic Reiki Master Teacher\, Kemetic Snut (spiritual healer/counselor)\, Kemetic Seba (teacher/preceptor)\, and Kemetic Diviner. She began her Kemetic journey over 35 years ago and has been a temple-initiated practitioner of Kemetic spirituality and mysticism for more than 20 years. As the founder of the Arat RA Kemetic Reiki Healing System and the Eye of RA Holistic Center\, Aset brings deep wisdom and a lifetime of experience to guide students toward awakening and living in harmony with Divine will. \nThis course is ideal for those seeking a grounded yet spiritual framework for living with purpose\, integrity\, and wisdom. Whether you’re new to Kemetic teachings or returning to ancestral knowledge\, this experience is designed to inspire awakening\, self-discipline\, and deeper connection with the Divine intelligence that governs all life. \nCome walk the path of the ancestors. Live with purpose. Align with Ma’at. Awaken your Divine Self. \nDuration: 3 months – Level 1Format: In-person / Online Hybrid – Meet every Sunday 3-5 pmTuition: $300 or $125 per month
URL:https://eyeofracenter.com/event/kemetic-classes-online-orientation/
ATTACH;FMTTYPE=image/png:https://eyeofracenter.com/wp-content/uploads/2025/07/Kemetic-School.png
END:VEVENT
BEGIN:VEVENT
DTSTART;TZID=America/Chicago:20250810T110000
DTEND;TZID=America/Chicago:20250810T120000
DTSTAMP:20260424T080627
CREATED:20250730T050119Z
LAST-MODIFIED:20250806T061530Z
UID:2350-1754823600-1754827200@eyeofracenter.com
SUMMARY:Kemetic Shedy Orientation
DESCRIPTION:Kemetic Shedy Practice\nSpiritual Discipline of the Ancients • Self-Mastery Through Divine Alignment \nShedy is the sacred spiritual practice of ancient Kemet (Egypt)\, rooted in the timeless wisdom of the Neteru (divine principles of nature) and the pursuit of Maat—truth\, balance\, order\, and cosmic harmony. It is a disciplined path of inner transformation\, self-realization\, and communion with the Divine. \nKemetic Shedy is not a religion—it is a way of life. \nCore Pillars of Shedy:\n🔹 Study (Shedy Rekh) – Deep reflection on sacred texts\, divine laws\, and spiritual teachings to nourish the mind and awaken divine consciousness. \n🔹 Devotion (Shedy Uaa)– Meditation\, chanting\, prayer\, and ritual to align the heart with the divine essence within and without. \n🔹 Righteous Action (Shedy Maat) – Living in harmony with truth and justice\, practicing ethical behavior\, and cultivating right relationships in community and self. \n🔹 Spiritual Discipline (Shedy Ari) – Daily practices\, self-restraint\, and the purification of thoughts\, words\, and deeds to free the soul from worldly bondage. \nWhy Practice Shedy?\n\n\nTo reconnect with your higher self \n\n\nTo restore ancestral memory and cultural wholeness \n\n\nTo activate spiritual clarity and emotional balance \n\n\nTo walk the path of Maat in a world of chaos \n\n\nTo live as a conscious being aligned with the divine purpose \n\n\nThrough consistent Shedy practice\, we remember that we are living expressions of divinity tasked with embodying truth and light in our time. \n” Men and Women are to Become God-like.”  Ancient Kemetic Proverb ~ This is the ultimate goal of life. \nJoin us in this sacred practice of awakening. \nYOU MUST ATTEND AN ORIENTATION AND BE GRANTED PERMISSION TO ATTEND.
URL:https://eyeofracenter.com/event/temple-of-ra-orientation-2/
ATTACH;FMTTYPE=image/png:https://eyeofracenter.com/wp-content/uploads/2025/05/Kemetic-Shedy.png
ORGANIZER;CN="Eye of RA Center":MAILTO:aset@eyeofracenter.com
END:VEVENT
BEGIN:VEVENT
DTSTART;TZID=America/Chicago:20250810T160000
DTEND;TZID=America/Chicago:20250810T170000
DTSTAMP:20260424T080627
CREATED:20250731T021857Z
LAST-MODIFIED:20250806T045949Z
UID:2359-1754841600-1754845200@eyeofracenter.com
SUMMARY:Per Ankh RA - House of Life Kemetic School Orientation
DESCRIPTION:THIS IS THE ORIENTATION CLASS FOR THE INTRODUCTION TO KEMETIC WISDOM TEACHINGS CLASS \nIntroduction to Kemetic Wisdom Teachings: Awakening the Divine Self Presented by the Eye of RA Holistic Center Per Ankh RA (House of Life and Light)! \nStep into the sacred legacy of ancient Kemet and embark on a transformative journey toward self-mastery\, balance\, and Divine alignment. \nThis introductory course in Kemetic Wisdom teachings invites students to explore the timeless spiritual principles rooted in Ma’at—the natural order and cosmic truth that governed life in ancient Kemet. Through study\, reflection\, and guided practices\, participants will begin to understand the foundational teachings that supported personal growth\, communal harmony\, and alignment with Divine will. \nWhat You Will Explore:\n\nThe spiritual cosmology of ancient Kemet and the Neteru (Divine principles)\nThe concept and practice of Ma’at as a path to inner balance and social harmony\nSacred teachings on the Divine Self (Ka\, Ba\, and Akh) and soul evolution\nThe role of ritual\, meditation\, and ethical living in personal transformation\nHow to apply Kemetic wisdom to modern life to become your most magnanimous self\n\n🌟 About Your Instructor:\nAset Hetep is a revered Kemetic Priestess (Hm’t RA)\, Kemetic Reiki Master Teacher\, Kemetic Snut (spiritual healer/counselor)\, Kemetic Seba (teacher/preceptor)\, and Kemetic Diviner. She began her Kemetic journey over 35 years ago and has been a temple-initiated practitioner of Kemetic spirituality and mysticism for more than 20 years. As the founder of the Arat RA Kemetic Reiki Healing System and the Eye of RA Holistic Center\, Aset brings deep wisdom and a lifetime of experience to guide students toward awakening and living in harmony with Divine will. \nThis course is ideal for those seeking a grounded yet spiritual framework for living with purpose\, integrity\, and wisdom. Whether you’re new to Kemetic teachings or returning to ancestral knowledge\, this experience is designed to inspire awakening\, self-discipline\, and deeper connection with the Divine intelligence that governs all life. \nCome walk the path of the ancestors. Live with purpose. Align with Maat. Awaken your Divine Self. \nDuration: 3 months – Level 1Format: In-person / Online Hybrid – Meet every Sunday 3-5 pmTuition: $300 or $125 per month
URL:https://eyeofracenter.com/event/per-ankh-ra-house-of-life-kemetic-school-orientation-2/
ATTACH;FMTTYPE=image/png:https://eyeofracenter.com/wp-content/uploads/2025/07/Kemetic-School.png
END:VEVENT
BEGIN:VEVENT
DTSTART;TZID=America/Chicago:20250817T110000
DTEND;TZID=America/Chicago:20250817T120000
DTSTAMP:20260424T080627
CREATED:20250806T061659Z
LAST-MODIFIED:20250806T061659Z
UID:2388-1755428400-1755432000@eyeofracenter.com
SUMMARY:Kemetic Shedy Orientation
DESCRIPTION:Kemetic Shedy Practice\nSpiritual Discipline of the Ancients • Self-Mastery Through Divine Alignment \nShedy is the sacred spiritual practice of ancient Kemet (Egypt)\, rooted in the timeless wisdom of the Neteru (divine principles of nature) and the pursuit of Maat—truth\, balance\, order\, and cosmic harmony. It is a disciplined path of inner transformation\, self-realization\, and communion with the Divine. \nKemetic Shedy is not a religion—it is a way of life. \nCore Pillars of Shedy:\n🔹 Study (Shedy Rekh) – Deep reflection on sacred texts\, divine laws\, and spiritual teachings to nourish the mind and awaken divine consciousness. \n🔹 Devotion (Shedy Uaa)– Meditation\, chanting\, prayer\, and ritual to align the heart with the divine essence within and without. \n🔹 Righteous Action (Shedy Maat) – Living in harmony with truth and justice\, practicing ethical behavior\, and cultivating right relationships in community and self. \n🔹 Spiritual Discipline (Shedy Ari) – Daily practices\, self-restraint\, and the purification of thoughts\, words\, and deeds to free the soul from worldly bondage. \nWhy Practice Shedy?\n\n\nTo reconnect with your higher self \n\n\nTo restore ancestral memory and cultural wholeness \n\n\nTo activate spiritual clarity and emotional balance \n\n\nTo walk the path of Maat in a world of chaos \n\n\nTo live as a conscious being aligned with the divine purpose \n\n\nThrough consistent Shedy practice\, we remember that we are living expressions of divinity tasked with embodying truth and light in our time. \n” Men and Women are to Become God-like.”  Ancient Kemetic Proverb ~ This is the ultimate goal of life. \nJoin us in this sacred practice of awakening. \nYOU MUST ATTEND AN ORIENTATION AND BE GRANTED PERMISSION TO ATTEND.
URL:https://eyeofracenter.com/event/kemetic-shedy-orientation/
ATTACH;FMTTYPE=image/png:https://eyeofracenter.com/wp-content/uploads/2025/05/Kemetic-Shedy.png
ORGANIZER;CN="Eye of RA Center":MAILTO:aset@eyeofracenter.com
END:VEVENT
BEGIN:VEVENT
DTSTART;TZID=America/Chicago:20250823T130000
DTEND;TZID=America/Chicago:20250823T150000
DTSTAMP:20260424T080627
CREATED:20250730T064459Z
LAST-MODIFIED:20250816T215432Z
UID:2327-1755954000-1755961200@eyeofracenter.com
SUMMARY:Adrenal & Gut Health Tea Talk
DESCRIPTION:Holistic Healing Tea Talk Workshop \nJoin us for a grounding and empowering session focused on chronic stress\, adrenal burnout\, and digestive dysfunction. Explore natural remedies for balance and resilience while sampling three signature herbal tea blends crafted to support whole-body wellness.
URL:https://eyeofracenter.com/event/tea-talk/
ATTACH;FMTTYPE=image/jpeg:https://eyeofracenter.com/wp-content/uploads/2025/07/Flyer-Vital-Flow-Resetting-Your-Gut.jpg
END:VEVENT
BEGIN:VEVENT
DTSTART;TZID=America/Chicago:20250829T180000
DTEND;TZID=America/Chicago:20250829T220000
DTSTAMP:20260424T080627
CREATED:20250806T042818Z
LAST-MODIFIED:20250806T044633Z
UID:2371-1756490400-1756504800@eyeofracenter.com
SUMMARY:Black August
DESCRIPTION:✊🏿 BLACK AUGUST CELEBRATION\nTwo Days of Reflection • Resistance • Restoration\nJoin us for a powerful two-day community event honoring the legacy of Black August—a sacred time to remember our freedom fighters\, deepen our political education\, and reconnect with ancestral strength. \nRooted in the spirit of self-determination and radical love\, this gathering is a space for learning\, healing\, and building collective power. \n.Black August is more than a month—it’s a living legacy of revolution\, resilience\, and radical love. This fundraiser supports ongoing efforts to uplift incarcerated freedom fighters and educate our communities. \nEVENT HIGHLIGHTS:\nOpening Libation CeremonyGround the gathering with an ancestral invocation to set sacred intention and unity. \nPanel: “Black Behind Bars: The Truth About Political Prisoners”Hear from activists\, educators\, and advocates about the ongoing criminalization of Black resistance\, the current status of political prisoners\, and what we must do to support their freedom. \nFilm Screening & Discussion: “Black August”Experience the acclaimed documentary that traces the roots of this movement\, followed by a community-led discussion. \nCommunity Workshop: “Letters to the Inside”Engage in healing solidarity by writing letters to incarcerated elders and revolutionaries—reminding them they are not forgotten. \nRising Yoga Flow & MeditationRestore your body and spirit with a mindful morning session rooted in liberation practices and holistic wellness. \nFreedom Fund Open Mic Speak truth\, spit fire…while keeping it clean and high vibrational! \n\nThis event is a call to action and a celebration of Black resistance. Come through to learn\, build\, express\, and uplift. Whether you’re a long-time freedom fighter or just awakening to the struggle\, there’s a place for you in this movement.
URL:https://eyeofracenter.com/event/black-august/
ATTACH;FMTTYPE=image/jpeg:https://eyeofracenter.com/wp-content/uploads/2025/08/123_1.jpeg
END:VEVENT
BEGIN:VEVENT
DTSTART;TZID=America/Chicago:20250829T180000
DTEND;TZID=America/Chicago:20250829T220000
DTSTAMP:20260424T080627
CREATED:20250806T042818Z
LAST-MODIFIED:20250806T044633Z
UID:2371-1756490400-1756504800@eyeofracenter.com
SUMMARY:Black August
DESCRIPTION:✊🏿 BLACK AUGUST CELEBRATION\nTwo Days of Reflection • Resistance • Restoration\nJoin us for a powerful two-day community event honoring the legacy of Black August—a sacred time to remember our freedom fighters\, deepen our political education\, and reconnect with ancestral strength. \nRooted in the spirit of self-determination and radical love\, this gathering is a space for learning\, healing\, and building collective power. \n.Black August is more than a month—it’s a living legacy of revolution\, resilience\, and radical love. This fundraiser supports ongoing efforts to uplift incarcerated freedom fighters and educate our communities. \nEVENT HIGHLIGHTS:\nOpening Libation CeremonyGround the gathering with an ancestral invocation to set sacred intention and unity. \nPanel: “Black Behind Bars: The Truth About Political Prisoners”Hear from activists\, educators\, and advocates about the ongoing criminalization of Black resistance\, the current status of political prisoners\, and what we must do to support their freedom. \nFilm Screening & Discussion: “Black August”Experience the acclaimed documentary that traces the roots of this movement\, followed by a community-led discussion. \nCommunity Workshop: “Letters to the Inside”Engage in healing solidarity by writing letters to incarcerated elders and revolutionaries—reminding them they are not forgotten. \nRising Yoga Flow & MeditationRestore your body and spirit with a mindful morning session rooted in liberation practices and holistic wellness. \nFreedom Fund Open Mic Speak truth\, spit fire…while keeping it clean and high vibrational! \n\nThis event is a call to action and a celebration of Black resistance. Come through to learn\, build\, express\, and uplift. Whether you’re a long-time freedom fighter or just awakening to the struggle\, there’s a place for you in this movement.
URL:https://eyeofracenter.com/event/black-august/
ATTACH;FMTTYPE=image/jpeg:https://eyeofracenter.com/wp-content/uploads/2025/08/123_1.jpeg
END:VEVENT
BEGIN:VEVENT
DTSTART;TZID=America/Chicago:20250831T110000
DTEND;TZID=America/Chicago:20250831T140000
DTSTAMP:20260424T080627
CREATED:20250828T222742Z
LAST-MODIFIED:20250828T222859Z
UID:2400-1756638000-1756648800@eyeofracenter.com
SUMMARY:Kemetic Shedy Practice - Orientation
DESCRIPTION:Kemetic Shedy Practice – Final Orientation\nSpiritual Discipline of the Ancients • Self-Mastery Through Divine Alignment \nShedy is the sacred spiritual practice of ancient Kemet (Egypt)\, rooted in the timeless wisdom of the Neteru (divine principles of nature) and the pursuit of Maat—truth\, balance\, order\, and cosmic harmony. It is a disciplined path of inner transformation\, self-realization\, and communion with the Divine. \nKemetic Shedy is not a religion—it is a way of life. \nCore Pillars of Shedy:\n🔹 Study (Shedy Rekh) – Deep reflection on sacred texts\, divine laws\, and spiritual teachings to nourish the mind and awaken divine consciousness. \n🔹 Devotion (Shedy Uaa)– Meditation\, chanting\, prayer\, and ritual to align the heart with the divine essence within and without. \n🔹 Righteous Action (Shedy Maat) – Living in harmony with truth and justice\, practicing ethical behavior\, and cultivating right relationships in community and self. \n🔹 Spiritual Discipline (Shedy Ari) – Daily practices\, self-restraint\, and the purification of thoughts\, words\, and deeds to free the soul from worldly bondage. \nWhy Practice Shedy?\n\n\nTo reconnect with your higher self \n\n\nTo restore ancestral memory and cultural wholeness \n\n\nTo activate spiritual clarity and emotional balance \n\n\nTo walk the path of Maat in a world of chaos \n\n\nTo live as a conscious being aligned with the divine purpose \n\n\nThrough consistent Shedy practice\, we remember that we are living expressions of divinity tasked with embodying truth and light in our time. \n” Men and Women are to Become God-like.”  Ancient Kemetic Proverb ~ This is the ultimate goal of life. \nJoin us in this sacred practice of awakening. \nYOU MUST ATTEND AN ORIENTATION AND BE GRANTED PERMISSION TO ATTEND.
URL:https://eyeofracenter.com/event/kemetic-shedy-practice/
ATTACH;FMTTYPE=image/png:https://eyeofracenter.com/wp-content/uploads/2025/05/kemetic-shedy-1.png
END:VEVENT
END:VCALENDAR