BEGIN:VCALENDAR
VERSION:2.0
PRODID:-//Eye of RA Center - ECPv6.15.20//NONSGML v1.0//EN
CALSCALE:GREGORIAN
METHOD:PUBLISH
X-WR-CALNAME:Eye of RA Center
X-ORIGINAL-URL:https://eyeofracenter.com
X-WR-CALDESC:Events for Eye of RA Center
REFRESH-INTERVAL;VALUE=DURATION:PT1H
X-Robots-Tag:noindex
X-PUBLISHED-TTL:PT1H
BEGIN:VTIMEZONE
TZID:America/Chicago
BEGIN:DAYLIGHT
TZOFFSETFROM:-0600
TZOFFSETTO:-0500
TZNAME:CDT
DTSTART:20240310T080000
END:DAYLIGHT
BEGIN:STANDARD
TZOFFSETFROM:-0500
TZOFFSETTO:-0600
TZNAME:CST
DTSTART:20241103T070000
END:STANDARD
BEGIN:DAYLIGHT
TZOFFSETFROM:-0600
TZOFFSETTO:-0500
TZNAME:CDT
DTSTART:20250309T080000
END:DAYLIGHT
BEGIN:STANDARD
TZOFFSETFROM:-0500
TZOFFSETTO:-0600
TZNAME:CST
DTSTART:20251102T070000
END:STANDARD
BEGIN:DAYLIGHT
TZOFFSETFROM:-0600
TZOFFSETTO:-0500
TZNAME:CDT
DTSTART:20260308T080000
END:DAYLIGHT
BEGIN:STANDARD
TZOFFSETFROM:-0500
TZOFFSETTO:-0600
TZNAME:CST
DTSTART:20261101T070000
END:STANDARD
END:VTIMEZONE
BEGIN:VEVENT
DTSTART;TZID=America/Chicago:20250705T120000
DTEND;TZID=America/Chicago:20250705T140000
DTSTAMP:20260423T171239
CREATED:20250526T223038Z
LAST-MODIFIED:20250526T223038Z
UID:2281-1751716800-1751724000@eyeofracenter.com
SUMMARY:DIY Waistbead Workshop
DESCRIPTION:DIY Waistbead Workshop: Set Your Intentions with Crystals & Color\n\nJoin us for a powerful hands-on experience where you’ll create your own intentional waistbeads using healing crystals and symbolic colors. Whether you’re new to waistbeads or deepening your spiritual practice\, this workshop will guide you in designing a strand that reflects your goals\, values\, and energy. \nWaistbeads are more than adornment\, they are tools of intention\, self-awareness\, and sacred power used for centuries by women across the African diaspora. You’ll leave not only with a beautiful waistbead but with a deeper connection to your body and spirit \n\n💎 What You’ll Learn & Create: \n\n\nThe history\, cultural and spiritual significance of waistbeads \n\n\nHow to select crystals and color meanings for intention-setting \n\n\nStep-by-step guidance to design and craft your own waistbeads \n\n\nA guided meditation and affirmation ritual to activate your creation \n\n\nHow to use waistbeads for goal-setting\, protection\, sensuality\, and spiritual alignment \n\n\n\n🎨 All Materials Provided\, Including: \n\n\nAn assortment of glass beads in meaningful colors \n\n\nHealing crystals such as rose quartz\, amethyst\, obsidian\, and citrine \n\n\nElastic or wire and clasps for durable\, elegant designs \n\n\nScissors\, pliers\, and intention-setting worksheet \n\n\n\n💫 Suggested Intentions: Self-love • Grounding • Fertility • Abundance • Protection • Confidence • Creativity \n🌸 Limited Spots Available – Register Now!
URL:https://eyeofracenter.com/event/diy-waistbead-workshop-2/
ATTACH;FMTTYPE=image/png:https://eyeofracenter.com/wp-content/uploads/2025/05/waistbeads.png
END:VEVENT
END:VCALENDAR