BEGIN:VCALENDAR
VERSION:2.0
PRODID:-//Eye of RA Center - ECPv6.15.20//NONSGML v1.0//EN
CALSCALE:GREGORIAN
METHOD:PUBLISH
X-WR-CALNAME:Eye of RA Center
X-ORIGINAL-URL:https://eyeofracenter.com
X-WR-CALDESC:Events for Eye of RA Center
REFRESH-INTERVAL;VALUE=DURATION:PT1H
X-Robots-Tag:noindex
X-PUBLISHED-TTL:PT1H
BEGIN:VTIMEZONE
TZID:America/Chicago
BEGIN:DAYLIGHT
TZOFFSETFROM:-0600
TZOFFSETTO:-0500
TZNAME:CDT
DTSTART:20250309T080000
END:DAYLIGHT
BEGIN:STANDARD
TZOFFSETFROM:-0500
TZOFFSETTO:-0600
TZNAME:CST
DTSTART:20251102T070000
END:STANDARD
BEGIN:DAYLIGHT
TZOFFSETFROM:-0600
TZOFFSETTO:-0500
TZNAME:CDT
DTSTART:20260308T080000
END:DAYLIGHT
BEGIN:STANDARD
TZOFFSETFROM:-0500
TZOFFSETTO:-0600
TZNAME:CST
DTSTART:20261101T070000
END:STANDARD
BEGIN:DAYLIGHT
TZOFFSETFROM:-0600
TZOFFSETTO:-0500
TZNAME:CDT
DTSTART:20270314T080000
END:DAYLIGHT
BEGIN:STANDARD
TZOFFSETFROM:-0500
TZOFFSETTO:-0600
TZNAME:CST
DTSTART:20271107T070000
END:STANDARD
END:VTIMEZONE
BEGIN:VEVENT
DTSTART;TZID=America/Chicago:20260315T080000
DTEND;TZID=America/Chicago:20260315T180000
DTSTAMP:20260423T140804
CREATED:20240905T231747Z
LAST-MODIFIED:20260106T070112Z
UID:1966-1773561600-1773597600@eyeofracenter.com
SUMMARY:Kemetic Reiki Level 1 Certification
DESCRIPTION:Kemetic Reiki Level 1 Certification Class Description: \nDiscover the ancient wisdom of Kemetic Reiki in this Level 1 certification class. Rooted in the spiritual practices of Kemet (ancient Egypt)\, this course introduces participants to the foundational principles of energy healing and its connections to Ma’at (cosmic balance and harmony). This course serves as a gateway to understanding and working with Kemetic universal life force energies that foster mind\, body\, soul balance\, harmony\, and personal empowerment. \nWhat You’ll Learn: \n\nThe Roots of Kemetic Reiki: Explore the origins\, spiritual foundations\, and cultural significance of this sacred healing art\, inspired by the principles of Ma’at (balance\, truth\, and cosmic order).\nEnergy Awareness: Gain a foundational understanding of energy systems\, including the sekhem (life force) and energy centers\, and how they affect well-being.\nSelf-Healing Practices: Learn meditative techniques\, breathwork\, and sacred symbols inspired by Kemetic traditions to align your energy and promote inner peace.\nEnergy Channeling Techniques: Develop your ability to channel and direct healing energy\, cultivating a deeper connection to your intuitive and spiritual self.\nLevel 1 Attunements: Receive attunements that awaken your capacity to work with Kemetic Reiki energy for self-care.\n\nCourse Highlights: \n\nInteractive practice sessions to apply your skills.\nComprehensive course materials to deepen your knowledge.\nA focus on spiritual growth and self-care as the foundation of healing.\nCertification upon completion\, enabling you to begin your Kemetic Reiki journey.\n\nThis beginner-friendly class welcomes those seeking a holistic approach to healing and spiritual development\, rooted in the wisdom of Kemet (ancient Egypt). No prior experience is required—just a curious mind and an open heart. \nBegin your journey to balance\, harmony\, and transformation today. \nRegistration link:  https://aratrareiki.com/registration/ \n*CashApp Option Available: $shemsura. Call 832-422-7457 after payment is made.
URL:https://eyeofracenter.com/event/kemetic-reiki-level-1-certification/
LOCATION:Eye of RA Center\, 10315 W AIRPORT BLVD\, STAFFORD\, TX\, 77477\, United States
ATTACH;FMTTYPE=image/png:https://eyeofracenter.com/wp-content/uploads/2024/09/Kemetic-Reiki-2026.png
END:VEVENT
END:VCALENDAR