BEGIN:VCALENDAR
VERSION:2.0
PRODID:-//Eye of RA Center - ECPv6.15.20//NONSGML v1.0//EN
CALSCALE:GREGORIAN
METHOD:PUBLISH
X-WR-CALNAME:Eye of RA Center
X-ORIGINAL-URL:https://eyeofracenter.com
X-WR-CALDESC:Events for Eye of RA Center
REFRESH-INTERVAL;VALUE=DURATION:PT1H
X-Robots-Tag:noindex
X-PUBLISHED-TTL:PT1H
BEGIN:VTIMEZONE
TZID:America/Chicago
BEGIN:DAYLIGHT
TZOFFSETFROM:-0600
TZOFFSETTO:-0500
TZNAME:CDT
DTSTART:20250309T080000
END:DAYLIGHT
BEGIN:STANDARD
TZOFFSETFROM:-0500
TZOFFSETTO:-0600
TZNAME:CST
DTSTART:20251102T070000
END:STANDARD
BEGIN:DAYLIGHT
TZOFFSETFROM:-0600
TZOFFSETTO:-0500
TZNAME:CDT
DTSTART:20260308T080000
END:DAYLIGHT
BEGIN:STANDARD
TZOFFSETFROM:-0500
TZOFFSETTO:-0600
TZNAME:CST
DTSTART:20261101T070000
END:STANDARD
BEGIN:DAYLIGHT
TZOFFSETFROM:-0600
TZOFFSETTO:-0500
TZNAME:CDT
DTSTART:20270314T080000
END:DAYLIGHT
BEGIN:STANDARD
TZOFFSETFROM:-0500
TZOFFSETTO:-0600
TZNAME:CST
DTSTART:20271107T070000
END:STANDARD
END:VTIMEZONE
BEGIN:VEVENT
DTSTART;TZID=America/Chicago:20260125T160000
DTEND;TZID=America/Chicago:20260125T170000
DTSTAMP:20260423T170646
CREATED:20260117T235735Z
LAST-MODIFIED:20260117T235735Z
UID:2563-1769356800-1769360400@eyeofracenter.com
SUMMARY:Intro to Kemetic Wisdom Teachings Orientation
DESCRIPTION:Zoom meeting: \nTopic: Intro to Kemetic Wisdom Teachings Orientation\nTime: Jan 25\, 2026 04:00 PM Central Time (US and Canada)\nJoin Zoom Meeting\nhttps://us06web.zoom.us/j/85316414569?pwd=HzgXG07bOJqmlVoCsBgjAZBaEgffwC.1 \nMeeting ID: 853 1641 4569\nPasscode: 803909 \n— \nOne tap mobile\n+19292056099\,\,85316414569#\,\,\,\,*803909# US (New York)\n+13017158592\,\,85316414569#\,\,\,\,*803909# US (Washington DC) \nJoin instructions\nhttps://us06web.zoom.us/meetings/85316414569/invitations?signature=m5glaG9_qqLPoEupX_I2NKaGEdn9qmah-y06DFntE5A \n 
URL:https://eyeofracenter.com/event/intro-to-kemetic-wisdom-teachings-orientation-2/
END:VEVENT
END:VCALENDAR