BEGIN:VCALENDAR
VERSION:2.0
PRODID:-//Eye of RA Center - ECPv6.15.20//NONSGML v1.0//EN
CALSCALE:GREGORIAN
METHOD:PUBLISH
X-WR-CALNAME:Eye of RA Center
X-ORIGINAL-URL:https://eyeofracenter.com
X-WR-CALDESC:Events for Eye of RA Center
REFRESH-INTERVAL;VALUE=DURATION:PT1H
X-Robots-Tag:noindex
X-PUBLISHED-TTL:PT1H
BEGIN:VTIMEZONE
TZID:America/Chicago
BEGIN:DAYLIGHT
TZOFFSETFROM:-0600
TZOFFSETTO:-0500
TZNAME:CDT
DTSTART:20240310T080000
END:DAYLIGHT
BEGIN:STANDARD
TZOFFSETFROM:-0500
TZOFFSETTO:-0600
TZNAME:CST
DTSTART:20241103T070000
END:STANDARD
BEGIN:DAYLIGHT
TZOFFSETFROM:-0600
TZOFFSETTO:-0500
TZNAME:CDT
DTSTART:20250309T080000
END:DAYLIGHT
BEGIN:STANDARD
TZOFFSETFROM:-0500
TZOFFSETTO:-0600
TZNAME:CST
DTSTART:20251102T070000
END:STANDARD
BEGIN:DAYLIGHT
TZOFFSETFROM:-0600
TZOFFSETTO:-0500
TZNAME:CDT
DTSTART:20260308T080000
END:DAYLIGHT
BEGIN:STANDARD
TZOFFSETFROM:-0500
TZOFFSETTO:-0600
TZNAME:CST
DTSTART:20261101T070000
END:STANDARD
END:VTIMEZONE
BEGIN:VEVENT
DTSTART;TZID=America/Chicago:20251207T130000
DTEND;TZID=America/Chicago:20251207T150000
DTSTAMP:20260423T182344
CREATED:20240630T235727Z
LAST-MODIFIED:20251126T152037Z
UID:1890-1765112400-1765119600@eyeofracenter.com
SUMMARY:Ancestors Workshop
DESCRIPTION:A fun and informative way to learn why since time immemorial spiritually evolved cultures stayed connected to their ancestors. \nJoin us for a special event where we will explore the power of connecting with our ancestors. \nOur Ancestors are our first line of spiritual support and protection. Discover the wisdom and guidance that can be found by honoring and working with your ancestors. We will discuss why so many indigenous cultures stay connected to their ancestors and how Western culture has weaken that connection and its impacts. Learn how to set up your very own ancestor shrine according to a long standing tradition. \nCome with an open heart and a willingness to explore your roots. This event is a unique opportunity to connect with your lineage and tap into the ancestral knowledge that is within you. \nWhat are generational curses and trauma? Do they really exist and if so\, how do they affect me? Do I need to engage in the age old practice of connecting with my ancestors? If so\, why and how? Is connecting to my ancestors evil or magic work? We will help you answer these questions and more at this amazing workshop. This workshop will be conducted by a Certified Spiritual Practitioner with over 25 years of working with ancestors experience. \nDon’t miss this chance to embrace your heritage and strengthen your spiritual connection. We look forward to seeing you there! \n 
URL:https://eyeofracenter.com/event/ancestors-workshop/
CATEGORIES:Community Events & Classes
ATTACH;FMTTYPE=image/png:https://eyeofracenter.com/wp-content/uploads/2024/06/Ancestor-workshop.png
END:VEVENT
END:VCALENDAR