BEGIN:VCALENDAR
VERSION:2.0
PRODID:-//Eye of RA Center - ECPv6.15.20//NONSGML v1.0//EN
CALSCALE:GREGORIAN
METHOD:PUBLISH
X-WR-CALNAME:Eye of RA Center
X-ORIGINAL-URL:https://eyeofracenter.com
X-WR-CALDESC:Events for Eye of RA Center
REFRESH-INTERVAL;VALUE=DURATION:PT1H
X-Robots-Tag:noindex
X-PUBLISHED-TTL:PT1H
BEGIN:VTIMEZONE
TZID:America/Chicago
BEGIN:DAYLIGHT
TZOFFSETFROM:-0600
TZOFFSETTO:-0500
TZNAME:CDT
DTSTART:20240310T080000
END:DAYLIGHT
BEGIN:STANDARD
TZOFFSETFROM:-0500
TZOFFSETTO:-0600
TZNAME:CST
DTSTART:20241103T070000
END:STANDARD
BEGIN:DAYLIGHT
TZOFFSETFROM:-0600
TZOFFSETTO:-0500
TZNAME:CDT
DTSTART:20250309T080000
END:DAYLIGHT
BEGIN:STANDARD
TZOFFSETFROM:-0500
TZOFFSETTO:-0600
TZNAME:CST
DTSTART:20251102T070000
END:STANDARD
BEGIN:DAYLIGHT
TZOFFSETFROM:-0600
TZOFFSETTO:-0500
TZNAME:CDT
DTSTART:20260308T080000
END:DAYLIGHT
BEGIN:STANDARD
TZOFFSETFROM:-0500
TZOFFSETTO:-0600
TZNAME:CST
DTSTART:20261101T070000
END:STANDARD
END:VTIMEZONE
BEGIN:VEVENT
DTSTART;TZID=America/Chicago:20250125T150000
DTEND;TZID=America/Chicago:20250125T180000
DTSTAMP:20260424T063222
CREATED:20250119T052251Z
LAST-MODIFIED:20250125T063238Z
UID:2073-1737817200-1737828000@eyeofracenter.com
SUMMARY:Documentary & Discussion
DESCRIPTION:Join us for an empowering evening of learning\, dining\, and meaningful conversation at Documentary & Discussion at the Eye of RA Holistic Center. This event is all about coming together as a community to share insights\, exchange ideas\, and tackle the challenges we face collectively. Through engaging documentaries and thoughtful discussions\, we explore ways to create positive change. Come connect\, reflect\, and enjoy a meaningful evening with us! \n\nEntry Donation: $5 Min\n\n  \n 
URL:https://eyeofracenter.com/event/documentary-discussion-dinner/
ATTACH;FMTTYPE=image/png:https://eyeofracenter.com/wp-content/uploads/2025/01/Bad-Faith.png
ORGANIZER;CN="Eye of RA Center":MAILTO:aset@eyeofracenter.com
END:VEVENT
END:VCALENDAR