BEGIN:VCALENDAR
VERSION:2.0
PRODID:-//Eye of RA Center - ECPv6.15.20//NONSGML v1.0//EN
CALSCALE:GREGORIAN
METHOD:PUBLISH
X-WR-CALNAME:Eye of RA Center
X-ORIGINAL-URL:https://eyeofracenter.com
X-WR-CALDESC:Events for Eye of RA Center
REFRESH-INTERVAL;VALUE=DURATION:PT1H
X-Robots-Tag:noindex
X-PUBLISHED-TTL:PT1H
BEGIN:VTIMEZONE
TZID:America/Chicago
BEGIN:DAYLIGHT
TZOFFSETFROM:-0600
TZOFFSETTO:-0500
TZNAME:CDT
DTSTART:20230312T080000
END:DAYLIGHT
BEGIN:STANDARD
TZOFFSETFROM:-0500
TZOFFSETTO:-0600
TZNAME:CST
DTSTART:20231105T070000
END:STANDARD
BEGIN:DAYLIGHT
TZOFFSETFROM:-0600
TZOFFSETTO:-0500
TZNAME:CDT
DTSTART:20240310T080000
END:DAYLIGHT
BEGIN:STANDARD
TZOFFSETFROM:-0500
TZOFFSETTO:-0600
TZNAME:CST
DTSTART:20241103T070000
END:STANDARD
BEGIN:DAYLIGHT
TZOFFSETFROM:-0600
TZOFFSETTO:-0500
TZNAME:CDT
DTSTART:20250309T080000
END:DAYLIGHT
BEGIN:STANDARD
TZOFFSETFROM:-0500
TZOFFSETTO:-0600
TZNAME:CST
DTSTART:20251102T070000
END:STANDARD
END:VTIMEZONE
BEGIN:VEVENT
DTSTART;TZID=America/Chicago:20241227T120000
DTEND;TZID=America/Chicago:20241227T180000
DTSTAMP:20260424T063221
CREATED:20241211T073028Z
LAST-MODIFIED:20241211T073028Z
UID:2014-1735300800-1735322400@eyeofracenter.com
SUMMARY:Kwanzaa Day 2 - Kujichagulia
DESCRIPTION:Celebrate Kwanzaa! \nCome join us at the Eye of RA Holistic Center for a 3 day festive celebration of Kwanzaa! Enjoy 3 days filled with cultural music\, film\, dance\, food\, and community. Learn about the seven principles of Kwanzaa and their significance. Connect with others and embrace the spirit of unity\, creativity\, and faith. This in-person event promises to be a joyful and meaningful experience for all who attend. Don’t miss out on this opportunity to honor and celebrate Kwanzaa together! \nDec 26\, 4-9 PM – Cultural Family & Community Fun Night: Candle Lighting\, Drumming\, Games\, Door Prizes\, Readings\, Sound Bowls\, Food & Fun that inspire Umoja (Unity)! \nDec 27\, 12-6 PM- Cultural Family & Community Film Day: A day of Cultural Films and Documentaries that Celebrate & Inspire Kujichagulia (Self-Determination)! \nDec 28\, 5-9 PM – Cultural Kwanzaa Jam Session: Candle Lighting\, Interactive Jam Session\, Open Mic\, Interactive Movement & Fun that inspire Ujima (Collective work & responsibility)! \nChildren & Teens: Free \nAdults: Donation (min suggested amount $5 plus $1 processing fee)
URL:https://eyeofracenter.com/event/kwanzaa-day-2-kujichagulia/
CATEGORIES:Community Events & Classes
ATTACH;FMTTYPE=image/png:https://eyeofracenter.com/wp-content/uploads/2024/07/Kwanzaa-flyer.png
END:VEVENT
END:VCALENDAR