BEGIN:VCALENDAR
VERSION:2.0
PRODID:-//Eye of RA Center - ECPv6.15.20//NONSGML v1.0//EN
CALSCALE:GREGORIAN
METHOD:PUBLISH
X-WR-CALNAME:Eye of RA Center
X-ORIGINAL-URL:https://eyeofracenter.com
X-WR-CALDESC:Events for Eye of RA Center
REFRESH-INTERVAL;VALUE=DURATION:PT1H
X-Robots-Tag:noindex
X-PUBLISHED-TTL:PT1H
BEGIN:VTIMEZONE
TZID:America/Chicago
BEGIN:DAYLIGHT
TZOFFSETFROM:-0600
TZOFFSETTO:-0500
TZNAME:CDT
DTSTART:20230312T080000
END:DAYLIGHT
BEGIN:STANDARD
TZOFFSETFROM:-0500
TZOFFSETTO:-0600
TZNAME:CST
DTSTART:20231105T070000
END:STANDARD
BEGIN:DAYLIGHT
TZOFFSETFROM:-0600
TZOFFSETTO:-0500
TZNAME:CDT
DTSTART:20240310T080000
END:DAYLIGHT
BEGIN:STANDARD
TZOFFSETFROM:-0500
TZOFFSETTO:-0600
TZNAME:CST
DTSTART:20241103T070000
END:STANDARD
BEGIN:DAYLIGHT
TZOFFSETFROM:-0600
TZOFFSETTO:-0500
TZNAME:CDT
DTSTART:20250309T080000
END:DAYLIGHT
BEGIN:STANDARD
TZOFFSETFROM:-0500
TZOFFSETTO:-0600
TZNAME:CST
DTSTART:20251102T070000
END:STANDARD
END:VTIMEZONE
BEGIN:VEVENT
DTSTART;TZID=America/Chicago:20240724T140000
DTEND;TZID=America/Chicago:20240724T144500
DTSTAMP:20260424T190101
CREATED:20240212T183433Z
LAST-MODIFIED:20240703T185332Z
UID:1800-1721829600-1721832300@eyeofracenter.com
SUMMARY:Youth Yoga 6-12yrs
DESCRIPTION:Yoga practice helps children and teens improve both their mental and physical health.  Yoga can assist children and teens improve fitness and physical health\, reduce stress and anxiety associated with age appropriate stressors such as peer pressure\, improve optimism\, improve focus and school performance\, improve self-esteem and body image\, encourage creativity\, develop discipline and self-regulation.
URL:https://eyeofracenter.com/event/youth-yoga-6-12yrs-3/
LOCATION:Eye of RA Center\, 10315 W AIRPORT BLVD\, STAFFORD\, TX\, 77477\, United States
CATEGORIES:Youth & Adult Classes
ORGANIZER;CN="Eye of RA Center":MAILTO:aset@eyeofracenter.com
END:VEVENT
END:VCALENDAR