BEGIN:VCALENDAR
VERSION:2.0
PRODID:-//Eye of RA Center - ECPv6.15.20//NONSGML v1.0//EN
CALSCALE:GREGORIAN
METHOD:PUBLISH
X-ORIGINAL-URL:https://eyeofracenter.com
X-WR-CALDESC:Events for Eye of RA Center
REFRESH-INTERVAL;VALUE=DURATION:PT1H
X-Robots-Tag:noindex
X-PUBLISHED-TTL:PT1H
BEGIN:VTIMEZONE
TZID:America/Chicago
BEGIN:DAYLIGHT
TZOFFSETFROM:-0600
TZOFFSETTO:-0500
TZNAME:CDT
DTSTART:20230312T080000
END:DAYLIGHT
BEGIN:STANDARD
TZOFFSETFROM:-0500
TZOFFSETTO:-0600
TZNAME:CST
DTSTART:20231105T070000
END:STANDARD
BEGIN:DAYLIGHT
TZOFFSETFROM:-0600
TZOFFSETTO:-0500
TZNAME:CDT
DTSTART:20240310T080000
END:DAYLIGHT
BEGIN:STANDARD
TZOFFSETFROM:-0500
TZOFFSETTO:-0600
TZNAME:CST
DTSTART:20241103T070000
END:STANDARD
BEGIN:DAYLIGHT
TZOFFSETFROM:-0600
TZOFFSETTO:-0500
TZNAME:CDT
DTSTART:20250309T080000
END:DAYLIGHT
BEGIN:STANDARD
TZOFFSETFROM:-0500
TZOFFSETTO:-0600
TZNAME:CST
DTSTART:20251102T070000
END:STANDARD
END:VTIMEZONE
BEGIN:VEVENT
DTSTART;TZID=America/Chicago:20240710T140000
DTEND;TZID=America/Chicago:20240710T144500
DTSTAMP:20260424T201855
CREATED:20240212T183216Z
LAST-MODIFIED:20240630T231025Z
UID:1796-1720620000-1720622700@eyeofracenter.com
SUMMARY:Youth Yoga 6-12yrs
DESCRIPTION:Yoga practice helps children and teens improve both their mental and physical health.  Yoga can assist children and teens improve fitness and physical health\, reduce stress and anxiety associated with age appropriate stressors such as peer pressure\, improve optimism\, improve focus and school performance\, improve self-esteem and body image\, encourage creativity\, develop discipline and self-regulation.
URL:https://eyeofracenter.com/event/youth-yoga-6-12yrs-2/
LOCATION:Eye of RA Center\, 10315 W AIRPORT BLVD\, STAFFORD\, TX\, 77477\, United States
CATEGORIES:Youth & Adult Classes
ORGANIZER;CN="Eye of RA Center":MAILTO:aset@eyeofracenter.com
END:VEVENT
BEGIN:VEVENT
DTSTART;TZID=America/Chicago:20240710T150000
DTEND;TZID=America/Chicago:20240710T154500
DTSTAMP:20260424T201855
CREATED:20240212T184112Z
LAST-MODIFIED:20240703T185028Z
UID:1807-1720623600-1720626300@eyeofracenter.com
SUMMARY:Teen Yoga 13-17yrs
DESCRIPTION:Yoga practice helps children and teens improve both their mental and physical health.  Yoga can assist children and teens improve fitness and physical health\, reduce stress and anxiety associated with age appropriate stressors such as peer pressure\, improve optimism\, improve focus and school performance\, improve self-esteem and body image\, encourage creativity\, develop discipline and self-regulation.
URL:https://eyeofracenter.com/event/teen-yoga-13-17yrs/
LOCATION:Eye of RA Center\, 10315 W AIRPORT BLVD\, STAFFORD\, TX\, 77477\, United States
CATEGORIES:Youth & Adult Classes
END:VEVENT
END:VCALENDAR