BEGIN:VCALENDAR
VERSION:2.0
PRODID:-//Eye of RA Center - ECPv6.15.20//NONSGML v1.0//EN
CALSCALE:GREGORIAN
METHOD:PUBLISH
X-WR-CALNAME:Eye of RA Center
X-ORIGINAL-URL:https://eyeofracenter.com
X-WR-CALDESC:Events for Eye of RA Center
REFRESH-INTERVAL;VALUE=DURATION:PT1H
X-Robots-Tag:noindex
X-PUBLISHED-TTL:PT1H
BEGIN:VTIMEZONE
TZID:America/Chicago
BEGIN:DAYLIGHT
TZOFFSETFROM:-0600
TZOFFSETTO:-0500
TZNAME:CDT
DTSTART:20220313T080000
END:DAYLIGHT
BEGIN:STANDARD
TZOFFSETFROM:-0500
TZOFFSETTO:-0600
TZNAME:CST
DTSTART:20221106T070000
END:STANDARD
BEGIN:DAYLIGHT
TZOFFSETFROM:-0600
TZOFFSETTO:-0500
TZNAME:CDT
DTSTART:20230312T080000
END:DAYLIGHT
BEGIN:STANDARD
TZOFFSETFROM:-0500
TZOFFSETTO:-0600
TZNAME:CST
DTSTART:20231105T070000
END:STANDARD
BEGIN:DAYLIGHT
TZOFFSETFROM:-0600
TZOFFSETTO:-0500
TZNAME:CDT
DTSTART:20240310T080000
END:DAYLIGHT
BEGIN:STANDARD
TZOFFSETFROM:-0500
TZOFFSETTO:-0600
TZNAME:CST
DTSTART:20241103T070000
END:STANDARD
END:VTIMEZONE
BEGIN:VEVENT
DTSTART;TZID=America/Chicago:20230927T180000
DTEND;TZID=America/Chicago:20230927T185000
DTSTAMP:20260425T204340
CREATED:20230217T184039Z
LAST-MODIFIED:20230830T225758Z
UID:842-1695837600-1695840600@eyeofracenter.com
SUMMARY:Vibration Elevation
DESCRIPTION:This class is sure to raise your energy and vibration.  We start by doing no-impact balancing work and breathing exercises that helps to evenly distribute the flow of life-force energy between your left and right hemispheres\, followed by movements designed to raise your energy vibration.
URL:https://eyeofracenter.com/event/high-vibe-2/
LOCATION:Eye of RA Center\, 10315 W AIRPORT BLVD\, STAFFORD\, TX\, 77477\, United States
CATEGORIES:Youth & Adult Classes
END:VEVENT
END:VCALENDAR